BEGIN:VCALENDAR
VERSION:2.0
PRODID:-//Aurora Lasergame Kladno - ECPv6.3.2//NONSGML v1.0//EN
CALSCALE:GREGORIAN
METHOD:PUBLISH
X-WR-CALNAME:Aurora Lasergame Kladno
X-ORIGINAL-URL:http://18.198.16.63
X-WR-CALDESC:Akce na Aurora Lasergame Kladno
REFRESH-INTERVAL;VALUE=DURATION:PT1H
X-Robots-Tag:noindex
X-PUBLISHED-TTL:PT1H
BEGIN:VTIMEZONE
TZID:Europe/Prague
BEGIN:DAYLIGHT
TZOFFSETFROM:+0100
TZOFFSETTO:+0200
TZNAME:CEST
DTSTART:20260329T010000
END:DAYLIGHT
BEGIN:STANDARD
TZOFFSETFROM:+0200
TZOFFSETTO:+0100
TZNAME:CET
DTSTART:20261025T010000
END:STANDARD
END:VTIMEZONE
BEGIN:VEVENT
DTSTART;TZID=Europe/Prague:20260509T180000
DTEND;TZID=Europe/Prague:20260509T210000
DTSTAMP:20260423T131613
CREATED:20260423T085114Z
LAST-MODIFIED:20260423T085114Z
UID:15099-1778349600-1778360400@18.198.16.63
SUMMARY:Rodinné neomezené hraní lasergame
DESCRIPTION:Baví vás lasergame nebo si ji chcete vyzkoušet a chybí vám stejně zapálení spoluhráči? Chcete si zasportovat netradiční zábavnou formou v přátelském kolektivu? \nTak právě pro vás pořádáme rodinné herní večery\, protože lasergame je skvělá zábava pro každého! 🎉 \n✍️ Registrace zde\nTři hodiny neomezeného lasergame hraní pro rodiny s dětmi\, samostatné děti i pohodové dospělé v přátelské atmosféře za zvýhodněnou cenu. Akce je určená pro úplné začátečníky a mírně pokročilé hráče. Rádi vás postupně během času provedeme od úplně základních po pokročilejší (a zábavnější 😊) typy her\, takže se nemusíte ničeho obávat ať už lasergame znáte\, nebo se chystáte teprve vyzkoušet 🙂 \n💵 Individuální vstupné: 400\,- Kč/os\n💵 Rodinné vstupné 2+1: 1000\,- Kč\n💵 Rodinné vstupné 2+2: 1100\,- Kč
URL:http://18.198.16.63/udalost/2026-05-09-rodinne-neomezene-hrani-lasergame/
LOCATION:Aurora Lasergame Kladno\, Čs. armády 3235\, Kladno\, 27201\, Česká republika
CATEGORIES:Děti,Dospělí,Zvýhodněné hraní
ATTACH;FMTTYPE=image/jpeg:http://18.198.16.63/wp-content/uploads/2025/09/2025_event_rodinne_generic.jpg
ORGANIZER;CN="Aurora Lasergame Kladno":MAILTO:info@aurorakladno.cz
END:VEVENT
BEGIN:VEVENT
DTSTART;TZID=Europe/Prague:20260530T180000
DTEND;TZID=Europe/Prague:20260530T210000
DTSTAMP:20260423T131613
CREATED:20260423T085215Z
LAST-MODIFIED:20260423T085634Z
UID:15101-1780164000-1780174800@18.198.16.63
SUMMARY:Rodinné neomezené hraní lasergame
DESCRIPTION:Baví vás lasergame nebo si ji chcete vyzkoušet a chybí vám stejně zapálení spoluhráči? Chcete si zasportovat netradiční zábavnou formou v přátelském kolektivu? \nTak právě pro vás pořádáme rodinné herní večery\, protože lasergame je skvělá zábava pro každého! 🎉 Tentokrát netradičně již od 16h odpoledne. \n✍️ Registrace zde\nTři hodiny neomezeného lasergame hraní pro rodiny s dětmi\, samostatné děti i pohodové dospělé v přátelské atmosféře za zvýhodněnou cenu. Akce je určená pro úplné začátečníky a mírně pokročilé hráče. Rádi vás postupně během času provedeme od úplně základních po pokročilejší (a zábavnější 😊) typy her\, takže se nemusíte ničeho obávat ať už lasergame znáte\, nebo se chystáte teprve vyzkoušet 🙂 \n💵 Individuální vstupné: 400\,- Kč/os\n💵 Rodinné vstupné 2+1: 1000\,- Kč\n💵 Rodinné vstupné 2+2: 1100\,- Kč
URL:http://18.198.16.63/udalost/2026-05-30-rodinne-neomezene-hrani-lasergame/
LOCATION:Aurora Lasergame Kladno\, Čs. armády 3235\, Kladno\, 27201\, Česká republika
CATEGORIES:Děti,Dospělí,Zvýhodněné hraní
ATTACH;FMTTYPE=image/jpeg:http://18.198.16.63/wp-content/uploads/2025/09/2025_event_rodinne_generic.jpg
ORGANIZER;CN="Aurora Lasergame Kladno":MAILTO:info@aurorakladno.cz
END:VEVENT
BEGIN:VEVENT
DTSTART;TZID=Europe/Prague:20260613T180000
DTEND;TZID=Europe/Prague:20260613T210000
DTSTAMP:20260423T131613
CREATED:20260423T085448Z
LAST-MODIFIED:20260423T085559Z
UID:15103-1781373600-1781384400@18.198.16.63
SUMMARY:Rodinné neomezené hraní lasergame
DESCRIPTION:Baví vás lasergame nebo si ji chcete vyzkoušet a chybí vám stejně zapálení spoluhráči? Chcete si zasportovat netradiční zábavnou formou v přátelském kolektivu? \nTak právě pro vás pořádáme rodinné herní večery\, protože lasergame je skvělá zábava pro každého! 🎉 \n✍️ Registrace zde\nTři hodiny neomezeného lasergame hraní pro rodiny s dětmi\, samostatné děti i pohodové dospělé v přátelské atmosféře za zvýhodněnou cenu. Akce je určená pro úplné začátečníky a mírně pokročilé hráče. Rádi vás postupně během času provedeme od úplně základních po pokročilejší (a zábavnější 😊) typy her\, takže se nemusíte ničeho obávat ať už lasergame znáte\, nebo se chystáte teprve vyzkoušet 🙂 \n💵 Individuální vstupné: 400\,- Kč/os\n💵 Rodinné vstupné 2+1: 1000\,- Kč\n💵 Rodinné vstupné 2+2: 1100\,- Kč
URL:http://18.198.16.63/udalost/2026-06-13-rodinne-neomezene-hrani-lasergame/
LOCATION:Aurora Lasergame Kladno\, Čs. armády 3235\, Kladno\, 27201\, Česká republika
CATEGORIES:Děti,Dospělí,Zvýhodněné hraní
ATTACH;FMTTYPE=image/jpeg:http://18.198.16.63/wp-content/uploads/2025/09/2025_event_rodinne_generic.jpg
ORGANIZER;CN="Aurora Lasergame Kladno":MAILTO:info@aurorakladno.cz
END:VEVENT
BEGIN:VEVENT
DTSTART;TZID=Europe/Prague:20260627T180000
DTEND;TZID=Europe/Prague:20260627T210000
DTSTAMP:20260423T131613
CREATED:20260423T085821Z
LAST-MODIFIED:20260423T085821Z
UID:15105-1782583200-1782594000@18.198.16.63
SUMMARY:Rodinné neomezené hraní lasergame
DESCRIPTION:Baví vás lasergame nebo si ji chcete vyzkoušet a chybí vám stejně zapálení spoluhráči? Chcete si zasportovat netradiční zábavnou formou v přátelském kolektivu? \nTak právě pro vás pořádáme rodinné herní večery\, protože lasergame je skvělá zábava pro každého! 🎉 Tentokrát netradičně již od 16h odpoledne. \n✍️ Registrace zde\nTři hodiny neomezeného lasergame hraní pro rodiny s dětmi\, samostatné děti i pohodové dospělé v přátelské atmosféře za zvýhodněnou cenu. Akce je určená pro úplné začátečníky a mírně pokročilé hráče. Rádi vás postupně během času provedeme od úplně základních po pokročilejší (a zábavnější 😊) typy her\, takže se nemusíte ničeho obávat ať už lasergame znáte\, nebo se chystáte teprve vyzkoušet 🙂 \n💵 Individuální vstupné: 400\,- Kč/os\n💵 Rodinné vstupné 2+1: 1000\,- Kč\n💵 Rodinné vstupné 2+2: 1100\,- Kč
URL:http://18.198.16.63/udalost/2026-06-27-rodinne-neomezene-hrani-lasergame/
LOCATION:Aurora Lasergame Kladno\, Čs. armády 3235\, Kladno\, 27201\, Česká republika
CATEGORIES:Děti,Dospělí,Zvýhodněné hraní
ATTACH;FMTTYPE=image/jpeg:http://18.198.16.63/wp-content/uploads/2025/09/2025_event_rodinne_generic.jpg
ORGANIZER;CN="Aurora Lasergame Kladno":MAILTO:info@aurorakladno.cz
END:VEVENT
END:VCALENDAR