BEGIN:VCALENDAR
VERSION:2.0
PRODID:-//Aurora Lasergame Kladno - ECPv6.3.2//NONSGML v1.0//EN
CALSCALE:GREGORIAN
METHOD:PUBLISH
X-WR-CALNAME:Aurora Lasergame Kladno
X-ORIGINAL-URL:http://18.198.16.63
X-WR-CALDESC:Akce na Aurora Lasergame Kladno
REFRESH-INTERVAL;VALUE=DURATION:PT1H
X-Robots-Tag:noindex
X-PUBLISHED-TTL:PT1H
BEGIN:VTIMEZONE
TZID:Europe/Prague
BEGIN:DAYLIGHT
TZOFFSETFROM:+0100
TZOFFSETTO:+0200
TZNAME:CEST
DTSTART:20260329T010000
END:DAYLIGHT
BEGIN:STANDARD
TZOFFSETFROM:+0200
TZOFFSETTO:+0100
TZNAME:CET
DTSTART:20261025T010000
END:STANDARD
END:VTIMEZONE
BEGIN:VEVENT
DTSTART;TZID=Europe/Prague:20260328T090000
DTEND;TZID=Europe/Prague:20260328T200000
DTSTAMP:20260422T162852
CREATED:20250924T220746Z
LAST-MODIFIED:20250924T222704Z
UID:14545-1774688400-1774728000@18.198.16.63
SUMMARY:XP Rumble S3: TACTICS
DESCRIPTION:Aurora XPR:TACTICS je vrcholným taktickým turnajem nejen v rámci série XP Rumble\, ale i mimo ni.\nZkratka znamená Tactical Arena Championship of Teamwork\, Instincts\, Cooperation and Stamina\, neboli taktický šampionát v týmové spolupráci\, instinktech\, kooperaci a výdrži – a přesně tyto atributy budou týmy potřebovat mít vymaxované\, aby se mohly ucházet o titul. \nČeká je totiž celodenní maraton 16 her\, kde se každý tým utká se všemi soupeři 4×\, pokaždé v jiném herním módu. Jedinečná akce svého druhu nejen v Česku\, ale i na světě: turnaj pro ty největší bojovníky\, který v sobě spojuje vytrvalost\, strategii\, týmovou souhru a schopnost opakovaně se rychle přizpůsobit. \nHerní módy:\n🛡️ Domination – Boj o kontrolu nad 3 klíčovými body arény současně\, jejichž obsazení přináší bonusové body i extra schopnosti \n⏳ Timewarp – Omezený čas v aréně\, který lze zásahem získat nebo ukrást soupeři. Komu čas vyprší\, končí. \n🏰 Base Assault+ – Každý tým má vlastní základnu + jedna neutrální. Zničení základny znamená vysoký zisk bodů\, ale smrt při nerozvážném útoku těžce trestá. \n👨‍💻 Hacker Pursuit – Každý tým nasazuje jednoho zranitelného hackera\, který hackováním cílů v aréně sbírá body a aktivuje EMP. Ostatní hráči – bodyguardi – ho chrání a zároveň se snaží neutralizovat hackera soupeře. \nAurora XPR:TACTICS je určena pro vybrané zkušené týmy\, které chtějí změřit své síly v ultimátním testu. Vítěz nebude jen držitelem poháru\, ale i titulu\, který se stane symbolem jejich taktické vybroušenosti. \nHerní klíč\n\nHraje se systémem “každý s každým x4” – každý tým se utká s každým soupeřem v každém typu mise.\nO vítězi rozhoduje v následujícím pořadí:\n\nCelkový počet výher\nVzájemné zápasy\nNormalizované nahrané skóre\nV případě remízy se odehraje rozstřelový zápas v módu Vlajky\n\n\nHodnotit se budou i dílčí výsledky v jednotlivých typech misí a individuální výsledky\n\nRegistrace na turnaj\nCelá série XP Rumble je určena především pro zkušenější hráče\, kteří chtějí posunout svoje limity a zkusit nové netradiční výzvy. \nKapacita: 5 týmů (v případě přeplnění kapacity bude platit omezení 1 tým/aréna)\nCena: 7000\,- Kč/tým
URL:http://18.198.16.63/udalost/xp-rumble-s3-tactics/
LOCATION:Aurora Lasergame Kladno\, Čs. armády 3235\, Kladno\, 27201\, Česká republika
CATEGORIES:Dospělí,Profesionální hráči,Soutěže,Turnaje,Týmové turnaje
ATTACH;FMTTYPE=image/jpeg:http://18.198.16.63/wp-content/uploads/2025/09/20260328_event_xprtactics.jpg
END:VEVENT
END:VCALENDAR