BEGIN:VCALENDAR
VERSION:2.0
PRODID:-//Aurora Lasergame Kladno - ECPv6.3.2//NONSGML v1.0//EN
CALSCALE:GREGORIAN
METHOD:PUBLISH
X-ORIGINAL-URL:http://18.198.16.63
X-WR-CALDESC:Akce na Aurora Lasergame Kladno
REFRESH-INTERVAL;VALUE=DURATION:PT1H
X-Robots-Tag:noindex
X-PUBLISHED-TTL:PT1H
BEGIN:VTIMEZONE
TZID:Europe/Prague
BEGIN:DAYLIGHT
TZOFFSETFROM:+0100
TZOFFSETTO:+0200
TZNAME:CEST
DTSTART:20260329T010000
END:DAYLIGHT
BEGIN:STANDARD
TZOFFSETFROM:+0200
TZOFFSETTO:+0100
TZNAME:CET
DTSTART:20261025T010000
END:STANDARD
END:VTIMEZONE
BEGIN:VEVENT
DTSTART;TZID=Europe/Prague:20260124T190000
DTEND;TZID=Europe/Prague:20260124T220000
DTSTAMP:20260422T180636
CREATED:20260114T225352Z
LAST-MODIFIED:20260114T225352Z
UID:14933-1769281200-1769292000@18.198.16.63
SUMMARY:Rodinné neomezené hraní lasergame
DESCRIPTION:Baví vás lasergame nebo si ji chcete vyzkoušet a chybí vám stejně zapálení spoluhráči? Chcete si zasportovat netradiční zábavnou formou v přátelském kolektivu? \nTak právě pro vás pořádáme rodinné herní večery\, protože lasergame je skvělá zábava pro každého! 🎉 \n✍️ Registrace zde\nTři hodiny neomezeného lasergame hraní pro rodiny s dětmi\, samostatné děti i pohodové dospělé v přátelské atmosféře za zvýhodněnou cenu. Akce je určená pro úplné začátečníky a mírně pokročilé hráče. Rádi vás postupně během času provedeme od úplně základních po pokročilejší (a zábavnější 😊) typy her\, takže se nemusíte ničeho obávat ať už lasergame znáte\, nebo se chystáte teprve vyzkoušet 🙂 \n💵 Individuální vstupné: 400\,- Kč/os\n💵 Rodinné vstupné 2+1: 1000\,- Kč\n💵 Rodinné vstupné 2+2: 1100\,- Kč
URL:http://18.198.16.63/udalost/2026-01-24-rodinne-neomezene-hrani-lasergame/
LOCATION:Aurora Lasergame Kladno\, Čs. armády 3235\, Kladno\, 27201\, Česká republika
CATEGORIES:Děti,Dospělí,Zvýhodněné hraní
ATTACH;FMTTYPE=image/jpeg:http://18.198.16.63/wp-content/uploads/2025/09/2025_event_rodinne_generic.jpg
ORGANIZER;CN="Aurora Lasergame Kladno":MAILTO:info@aurorakladno.cz
END:VEVENT
BEGIN:VEVENT
DTSTART;TZID=Europe/Prague:20260131T090000
DTEND;TZID=Europe/Prague:20260131T200000
DTSTAMP:20260422T180636
CREATED:20250926T223659Z
LAST-MODIFIED:20250926T223659Z
UID:14603-1769850000-1769889600@18.198.16.63
SUMMARY:Laserball OPEN Series S3 – 1st Division – Episode 2
DESCRIPTION:EPIZODA 2 – TLAK ROSTE\, CHYBY SE NETOLERUJÍ\nDruhá epizoda sezóny bude klíčová pro vyrovnané týmy i pro ty\, kteří se potřebují odrazit po slabším vstupu. V tuto chvíli už známe formu jednotlivých celků – a každá chyba teď může znamenat ztrátu cenných bodů. Zápasy budou rychlé\, vypjaté a často rozhodnuté až v posledních vteřinách. \nV rámci Laserball OPEN Series sbírá každý tým body za jednotlivé zápasy v každé epizodě. Na konci sezóny se počítá jejich celkový součet a ten určí konečné pořadí. V případě rovnosti bodů rozhoduje vzájemný zápas\, skóre\, počet gólů – a v krajním případě i rozstřelový zápas. \nPokud se chceš dozvědět\, jaké strategie se prosazují a kdo má šanci zamíchat pořadím\, druhá epizoda je přesně tím pravým okamžikem naskočit do dění! \nLivestream\nCelé konání včetně statistik v reálném čase můžete sledovat ŽIVĚ na našem Youtube kanálu – dejte nám odběr\, ať vám tato ani další akce neuniknou! A nám to moc pomůže v dalším rozvoji sportu 🙂
URL:http://18.198.16.63/udalost/laserball-open-series-s3-1st-division-episode-2/
LOCATION:Aurora Lasergame Kladno\, Čs. armády 3235\, Kladno\, 27201\, Česká republika
CATEGORIES:Děti,Dospělí,Profesionální hráči,Soutěže,Turnaje,Týmové turnaje
ATTACH;FMTTYPE=image/jpeg:http://18.198.16.63/wp-content/uploads/2025/09/20260131_event_LBOS-D1-2.jpg
END:VEVENT
END:VCALENDAR