BEGIN:VCALENDAR
VERSION:2.0
PRODID:-//Aurora Lasergame Kladno - ECPv6.3.2//NONSGML v1.0//EN
CALSCALE:GREGORIAN
METHOD:PUBLISH
X-ORIGINAL-URL:http://18.198.16.63
X-WR-CALDESC:Akce na Aurora Lasergame Kladno
REFRESH-INTERVAL;VALUE=DURATION:PT1H
X-Robots-Tag:noindex
X-PUBLISHED-TTL:PT1H
BEGIN:VTIMEZONE
TZID:Europe/Prague
BEGIN:DAYLIGHT
TZOFFSETFROM:+0100
TZOFFSETTO:+0200
TZNAME:CEST
DTSTART:20250330T010000
END:DAYLIGHT
BEGIN:STANDARD
TZOFFSETFROM:+0200
TZOFFSETTO:+0100
TZNAME:CET
DTSTART:20251026T010000
END:STANDARD
END:VTIMEZONE
BEGIN:VEVENT
DTSTART;TZID=Europe/Prague:20250323T100000
DTEND;TZID=Europe/Prague:20250323T180000
DTSTAMP:20260423T112504
CREATED:20240918T001321Z
LAST-MODIFIED:20240918T001321Z
UID:12460-1742724000-1742752800@18.198.16.63
SUMMARY:XP Rumble 24/25 - Space Marines 5 (5v5)
DESCRIPTION:Zveme vás na další turnaj pod hlavičkou Aurora XP Rumble\, tentokrát v taktickém módu Space Marines 5! \nTýmy složené z pěti unikátních rolí – velitele\, vojáka\, průzkumníka\, medika a zbrojíře – se vzájemně utkají ve formátu 5v5\, každý s každým v napínavých soubojích\, kde nerozhodují jen individuální schopnosti\, ale také vzájemná souhra a komunikace mezi parťáky. \nTurnaj je určený především pro zkušenější hráče a odvážné nováčky. \n\nHerní klíč:\n\nKaždý tým si zahraje proti každému soupeři\nV případě eliminace soupeře vítězí automaticky přeživší tým\, jinak tým s vyšším nahraným skóre\nVítězí tým s nejvyšším počtem výher\nV případě remízy počtu výher rozhoduje vzájemný zápas\, v případě remízového vzájemného zápasu pak celkové nahrané skóre\nPokud i zde bude remíza\, proběhne druhý rozstřelovací zápas\n\n\n⚠️ V případě zájmu je možné dorazit již den předem a využít sobotní večer k neomezenému tréninku strategie a otestování soupeřů za 1500\,- Kč/tým\, po tréninku možnost přespat u nás na aréně. Dejte nám vědět\, pokud byste měli o trénink zájem. \nPo turnaji se účastníci mohou těšit na bonusové hry zdarma  \n\nRegistrace do XP Rumble 24/25\nStartovné na Space Marines 5 turnaj je 3500\,- Kč/tým. \nChcete-li vyplnit tento formulář\, prosím povolte v prohlížeči JavaScript.Informace o hráči\nLayoutCelé jméno *Přezdívka *Věk *Domovská aréna *Aurora Lasergame KladnoFantasy Lasergame Karlovy VaryLaser Game PlzeňLasergame ŘíčanyMercuria BraníkMercuria HolešoviceMercuria LiberecStar Doms DomažliceJinéNa jaký turnaj se hlásíš? *Domination 7v7 (1.12.2024)Space Marines Duos (5.1.2025)Space Marines 5 (23.3.2025)King of the Hill (10.6.2025)SM5 týmSpoluhráč 1 - jménoSpoluhráč 2 - jménoSpoluhráč 3 - jménoSpoluhráč 4 - jménoSpoluhráč 5 - jménoSpoluhráč 6 - jménoSpoluhráč 1 - přezdívkaSpoluhráč 2 - přezdívkaSpoluhráč 3 - přezdívkaSpoluhráč 4 - přezdívkaSpoluhráč 5 - přezdívkaSpoluhráč 6 - přezdívkaSpoluhráč 1 - věkSpoluhráč 2 - věkSpoluhráč 3 - věkSpoluhráč 4 - věkSpoluhráč 5 - věkSpoluhráč 6 - věkKontaktní informace\nLayoutEmail *Telefon *Souhlas s podmínkami registrace *Souhlasím s podmínkami registrace do turnajeRegistrací do turnaje potvrzuji\, že jsem zdravotně způsobilý se turnaje zúčastnit a že budu dodržovat návštěvní řád sportoviště a pokyny organizátora turnaje. Zároveň registrací do turnaje souhlasím s pořizováním audiovizuálních záznamů z průběhu turnaje a dávám organizátorovi turnaje souhlas s využitím těchto záznamů a mých výše vyplněných osobních údajů za účelem propagace této a dalších akcí organizátora.Odeslat přihlášku do turnaje
URL:http://18.198.16.63/udalost/2025-03-xp-rumble-24-25-space-marines-5/
LOCATION:Aurora Lasergame Kladno\, Čs. armády 3235\, Kladno\, 27201\, Česká republika
CATEGORIES:Děti,Dospělí,Profesionální hráči,Soutěže,Turnaje,Týmové turnaje
ATTACH;FMTTYPE=image/jpeg:http://18.198.16.63/wp-content/uploads/2024/09/20250323_event_xprsm5.jpg
ORGANIZER;CN="Aurora Lasergame Kladno":MAILTO:info@aurorakladno.cz
END:VEVENT
BEGIN:VEVENT
DTSTART;TZID=Europe/Prague:20250326T180000
DTEND;TZID=Europe/Prague:20250326T210000
DTSTAMP:20260423T112504
CREATED:20250314T110622Z
LAST-MODIFIED:20250314T111727Z
UID:13221-1743012000-1743022800@18.198.16.63
SUMMARY:Dospělácké večerní neomezené hraní
DESCRIPTION:Baví vás lasergame nebo si ji chcete vyzkoušet a hledáte další spoluhráče? Chcete si zasportovat netradiční zábavnou formou v přátelském kolektivu? \nTak právě pro vás pořádáme dospělácké herní večery\, protože lasergame není zdaleka jen pro děti! 🎉 \n✍️ Registrace zde\nTři hodiny neomezeného lasergame hraní pro všechny hráče starší 15 let v pohodové atmosféře za jednu zvýhodněnou cenu. Rádi vás postupně během času provedeme od úplně základních po pokročilé typy her\, takže se nemusíte ničeho obávat ať už lasergame znáte\, nebo se chystáte teprve vyzkoušet 🙂 \n💵 Vstupné 400\,- Kč/os
URL:http://18.198.16.63/udalost/2025-03-26-dospelacke-vecerni-neomezene-hrani/
LOCATION:Aurora Lasergame Kladno\, Čs. armády 3235\, Kladno\, 27201\, Česká republika
CATEGORIES:Dospělí,Zvýhodněné hraní
ATTACH;FMTTYPE=image/jpeg:http://18.198.16.63/wp-content/uploads/2025/03/2025_event_dospeli_generic.jpg
ORGANIZER;CN="Aurora Lasergame Kladno":MAILTO:info@aurorakladno.cz
END:VEVENT
END:VCALENDAR