BEGIN:VCALENDAR
VERSION:2.0
PRODID:-//Aurora Lasergame Kladno - ECPv6.3.2//NONSGML v1.0//EN
CALSCALE:GREGORIAN
METHOD:PUBLISH
X-ORIGINAL-URL:http://18.198.16.63
X-WR-CALDESC:Akce na Aurora Lasergame Kladno
REFRESH-INTERVAL;VALUE=DURATION:PT1H
X-Robots-Tag:noindex
X-PUBLISHED-TTL:PT1H
BEGIN:VTIMEZONE
TZID:Europe/Prague
BEGIN:DAYLIGHT
TZOFFSETFROM:+0100
TZOFFSETTO:+0200
TZNAME:CEST
DTSTART:20240331T010000
END:DAYLIGHT
BEGIN:STANDARD
TZOFFSETFROM:+0200
TZOFFSETTO:+0100
TZNAME:CET
DTSTART:20241027T010000
END:STANDARD
BEGIN:DAYLIGHT
TZOFFSETFROM:+0100
TZOFFSETTO:+0200
TZNAME:CEST
DTSTART:20250330T010000
END:DAYLIGHT
BEGIN:STANDARD
TZOFFSETFROM:+0200
TZOFFSETTO:+0100
TZNAME:CET
DTSTART:20251026T010000
END:STANDARD
END:VTIMEZONE
BEGIN:VEVENT
DTSTART;TZID=Europe/Prague:20241231T190000
DTEND;TZID=Europe/Prague:20250101T100000
DTSTAMP:20260423T144457
CREATED:20241210T160241Z
LAST-MODIFIED:20241210T160241Z
UID:12733-1735671600-1735725600@18.198.16.63
SUMMARY:Rodinný silvestr 2024 v Auroře
DESCRIPTION:Vezměte sebou kamarády malé i velké a pojďte s námi společně oslavit konec roku a přivítat ten nový na lasergame! 🥳🎉 \nStejně jako v předcházejících letech i letos zakončíme kalendářní rok ve společném kruhu naší lasergame rodinky a všechny vás srdečně zveme 😊\nAkce je vhodná pro děti\, dospělé i celé rodiny a spíše než divoká party je pojatá jako příjemný společný večer plný her 😊 \n✍️ Registrace na akci\nCo vás čeká?\n\nNEOMEZENÉ hraní lasergame do noci\nDeskovky k zapůjčení\nGamer koutek s PS5 a fotbálek\nTeplý a studený raut a novoroční přípitek zdarma\nKrom běžné nabídky navíc alko i nealko míchané nápoje na baru\nPro sběratele trofejí z řad našich členů achievementy za hru přes silvestrovskou půlnoc a na Nový rok\na hlavně celovečerní přátelská atmosféra\, na které si zakládáme 😊\n\nSamozřejmě není povinné zůstávat do noci/rána\, můžete si užít her do večera a pak se přesunout domů 🙂 Pro unavené a přespolní bude možnost přespat u nás do druhého dne (vlastní karimatku a spacák sebou) 😴 \nTěšíme se na vás!
URL:http://18.198.16.63/udalost/rodinny-silvestr-2024-v-aurore/
LOCATION:Aurora Lasergame Kladno\, Čs. armády 3235\, Kladno\, 27201\, Česká republika
CATEGORIES:Děti,Dospělí,Zvýhodněné hraní
ATTACH;FMTTYPE=image/jpeg:http://18.198.16.63/wp-content/uploads/2024/12/20241231_event_silvestr.jpg
ORGANIZER;CN="Aurora Lasergame Kladno":MAILTO:info@aurorakladno.cz
END:VEVENT
BEGIN:VEVENT
DTSTART;TZID=Europe/Prague:20250105T160000
DTEND;TZID=Europe/Prague:20250105T193000
DTSTAMP:20260423T144457
CREATED:20240918T000851Z
LAST-MODIFIED:20250101T143758Z
UID:12458-1736092800-1736105400@18.198.16.63
SUMMARY:XP Rumble 24/25 - Space Marines Duos (dvojice)
DESCRIPTION:⚠️ Turnaj v aktuálním termínu zrušen\, pokusíme se zajistit jeho přeložení na pozdější datum\, děkujeme za pochopení\nZveme vás na další turnaj pod hlavičkou Aurora XP Rumble\, tentokrát v taktickém módu Space Marines Duos! \nDvojice ve složení medik+zbrojíř se spolu utkají v napínavých soubojích\, kde nerozhodují jen individuální schopnosti\, ale také vzájemná souhra a komunikace mezi parťáky. \nTurnaj je určený především pro zkušenější hráče a odvážné nováčky. \n\nHerní klíč:\n\nstartovní pole bude rozdělené do dvou stejně početných skupin\nprvní kolo je rozřazené náhodně\, všechna další budou systémem “sudý/lichý” podle dosavadního celkového bodového zisku\nhrají se 4 mise\, ve kterých získáváte body podle svého umístění\ncelkovým vítězem se stává hráč s nejvyšším součtem bodů\nv případě remízy bodů rozhodují o pořadí nejlepší dosažená umístění v jednotlivých hrách\, následně celkové nahrané skóre\n\nPo turnaji se účastníci mohou těšit na bonusové hry zdarma  \n\nRegistrace do XP Rumble 24/25\nStartovné na Space Marines Duos turnaj je 1000\,- Kč/dvojice. \nChcete-li vyplnit tento formulář\, prosím povolte v prohlížeči JavaScript.Informace o hráči\nLayoutCelé jméno *Přezdívka *Věk *Domovská aréna *Aurora Lasergame KladnoFantasy Lasergame Karlovy VaryLaser Game PlzeňLasergame ŘíčanyMercuria BraníkMercuria HolešoviceMercuria LiberecStar Doms DomažliceJinéNa jaký turnaj se hlásíš? *Domination 7v7 (1.12.2024)Space Marines Duos (5.1.2025)Space Marines 5 (23.3.2025)King of the Hill (10.6.2025)SM5 týmSpoluhráč 1 - jménoSpoluhráč 2 - jménoSpoluhráč 3 - jménoSpoluhráč 4 - jménoSpoluhráč 5 - jménoSpoluhráč 6 - jménoSpoluhráč 1 - přezdívkaSpoluhráč 2 - přezdívkaSpoluhráč 3 - přezdívkaSpoluhráč 4 - přezdívkaSpoluhráč 5 - přezdívkaSpoluhráč 6 - přezdívkaSpoluhráč 1 - věkSpoluhráč 2 - věkSpoluhráč 3 - věkSpoluhráč 4 - věkSpoluhráč 5 - věkSpoluhráč 6 - věkKontaktní informace\nLayoutEmail *Telefon *Souhlas s podmínkami registrace *Souhlasím s podmínkami registrace do turnajeRegistrací do turnaje potvrzuji\, že jsem zdravotně způsobilý se turnaje zúčastnit a že budu dodržovat návštěvní řád sportoviště a pokyny organizátora turnaje. Zároveň registrací do turnaje souhlasím s pořizováním audiovizuálních záznamů z průběhu turnaje a dávám organizátorovi turnaje souhlas s využitím těchto záznamů a mých výše vyplněných osobních údajů za účelem propagace této a dalších akcí organizátora.Odeslat přihlášku do turnaje
URL:http://18.198.16.63/udalost/2025-01-xp-rumble-24-25-space-marines-duos-dvojice/
LOCATION:Aurora Lasergame Kladno\, Čs. armády 3235\, Kladno\, 27201\, Česká republika
CATEGORIES:Děti,Dospělí,Profesionální hráči,Soutěže,Turnaje,Týmové turnaje
ATTACH;FMTTYPE=image/jpeg:http://18.198.16.63/wp-content/uploads/2024/09/20250105_event_xprsm2.jpg
ORGANIZER;CN="Aurora Lasergame Kladno":MAILTO:info@aurorakladno.cz
END:VEVENT
BEGIN:VEVENT
DTSTART;TZID=Europe/Prague:20250108T190000
DTEND;TZID=Europe/Prague:20250108T220000
DTSTAMP:20260423T144457
CREATED:20241223T144751Z
LAST-MODIFIED:20241223T144856Z
UID:12822-1736362800-1736373600@18.198.16.63
SUMMARY:Dospělácké večerní neomezené hraní
DESCRIPTION:Baví vás lasergame nebo si ji chcete vyzkoušet a hledáte další spoluhráče? Dali jste si sportování jako novoroční předsevzetí\, ale nechce se vám do přeplněných fitek? \nTak právě pro vás pořádáme dospělácké herní večery\, protože lasergame není zdaleka jen pro děti! 🎉 \n✍️ Registrace zde\nTři hodiny neomezeného lasergame hraní pro všechny hráče starší 15 let v pohodové atmosféře za jednu zvýhodněnou cenu. Rádi vás postupně během času provedeme od úplně základních po pokročilé typy her\, takže se nemusíte ničeho obávat ať už lasergame znáte\, nebo se chystáte teprve vyzkoušet 🙂 \n💵 Vstupné 400\,- Kč/os
URL:http://18.198.16.63/udalost/dospelacke-vecerni-neomezene-hrani/
LOCATION:Aurora Lasergame Kladno\, Čs. armády 3235\, Kladno\, 27201\, Česká republika
CATEGORIES:Dospělí,Zvýhodněné hraní
ATTACH;FMTTYPE=image/jpeg:http://18.198.16.63/wp-content/uploads/2024/12/20250108_event_dospeli.jpg
ORGANIZER;CN="Aurora Lasergame Kladno":MAILTO:info@aurorakladno.cz
END:VEVENT
BEGIN:VEVENT
DTSTART;TZID=Europe/Prague:20250122T190000
DTEND;TZID=Europe/Prague:20250122T220000
DTSTAMP:20260423T144457
CREATED:20241223T145128Z
LAST-MODIFIED:20241223T145128Z
UID:12827-1737572400-1737583200@18.198.16.63
SUMMARY:Dospělácké večerní neomezené hraní
DESCRIPTION:Baví vás lasergame nebo si ji chcete vyzkoušet a hledáte další spoluhráče? Dali jste si sportování jako novoroční předsevzetí\, ale nechce se vám do přeplněných fitek? \nTak právě pro vás pořádáme dospělácké herní večery\, protože lasergame není zdaleka jen pro děti! 🎉 \n✍️ Registrace zde\nTři hodiny neomezeného lasergame hraní pro všechny hráče starší 15 let v pohodové atmosféře za jednu zvýhodněnou cenu. Rádi vás postupně během času provedeme od úplně základních po pokročilé typy her\, takže se nemusíte ničeho obávat ať už lasergame znáte\, nebo se chystáte teprve vyzkoušet 🙂 \n💵 Vstupné 400\,- Kč/os
URL:http://18.198.16.63/udalost/2024-01-22-dospelacke-vecerni-neomezene-hrani/
LOCATION:Aurora Lasergame Kladno\, Čs. armády 3235\, Kladno\, 27201\, Česká republika
CATEGORIES:Dospělí,Zvýhodněné hraní
ATTACH;FMTTYPE=image/jpeg:http://18.198.16.63/wp-content/uploads/2024/12/20250122_event_dospeli.jpg
ORGANIZER;CN="Aurora Lasergame Kladno":MAILTO:info@aurorakladno.cz
END:VEVENT
END:VCALENDAR