BEGIN:VCALENDAR
VERSION:2.0
PRODID:-//Aurora Lasergame Kladno - ECPv6.3.2//NONSGML v1.0//EN
CALSCALE:GREGORIAN
METHOD:PUBLISH
X-ORIGINAL-URL:http://18.198.16.63
X-WR-CALDESC:Akce na Aurora Lasergame Kladno
REFRESH-INTERVAL;VALUE=DURATION:PT1H
X-Robots-Tag:noindex
X-PUBLISHED-TTL:PT1H
BEGIN:VTIMEZONE
TZID:Europe/Prague
BEGIN:DAYLIGHT
TZOFFSETFROM:+0100
TZOFFSETTO:+0200
TZNAME:CEST
DTSTART:20240331T010000
END:DAYLIGHT
BEGIN:STANDARD
TZOFFSETFROM:+0200
TZOFFSETTO:+0100
TZNAME:CET
DTSTART:20241027T010000
END:STANDARD
END:VTIMEZONE
BEGIN:VEVENT
DTSTART;TZID=Europe/Prague:20240503T200000
DTEND;TZID=Europe/Prague:20240503T220000
DTSTAMP:20260424T105928
CREATED:20240428T204709Z
LAST-MODIFIED:20240428T204709Z
UID:12187-1714766400-1714773600@18.198.16.63
SUMMARY:Dospělácký herní večer s neomezenou lasergame
DESCRIPTION:Baví vás lasergame a hledáte další spoluhráče? Tak právě pro vás pořádáme dospělácké herní večery! 🎉 \nRegistrace zde\nDvě hodiny neomezeného lasergame hraní\, během kterého stihneme minimálně 5 her\, pro všechny hráče starší 15 let v pohodové atmosféře za jednu zvýhodněnou cenu. Rádi vás postupně během času provedeme od úplně základních po pokročilé typy her\, takže se nemusíte ničeho obávat ať už lasergame znáte\, nebo se chystáte teprve vyzkoušet 🙂 \nScházíme se každých 14 dní ve středu večer a je na vás\, jak často se budete chtít přidat 😊 Na vybraný termín se prosím přihlašte přes tento rychlý formulář. \nTěšíme se na vás!
URL:http://18.198.16.63/udalost/2024-05-03-dospelacky-herni-vecer-s-neomezenou-lasergame/
LOCATION:Aurora Lasergame Kladno\, Čs. armády 3235\, Kladno\, 27201\, Česká republika
CATEGORIES:Dospělí,Zvýhodněné hraní
ATTACH;FMTTYPE=image/jpeg:http://18.198.16.63/wp-content/uploads/2023/10/20231011_event_hernivecer_generic.jpg
ORGANIZER;CN="Aurora Lasergame Kladno":MAILTO:info@aurorakladno.cz
END:VEVENT
BEGIN:VEVENT
DTSTART;TZID=Europe/Prague:20240526T090000
DTEND;TZID=Europe/Prague:20240526T183000
DTSTAMP:20260424T105928
CREATED:20230828T140619Z
LAST-MODIFIED:20230828T140808Z
UID:11770-1716714000-1716748200@18.198.16.63
SUMMARY:Laserball Open Series #3 - Grand Finale (otevřený turnaj 5v5)
DESCRIPTION:Zveme vás na turnaj v tom nejakčnějším\, nejnapínavějším a nejzábavnějším\, co sportovní lasergame nabízí – v rychlém a taktickém módu Laserball! \nTurnaj (a celá série) je určený především pro zkušenější hráče a odvážné nováčky. \nTento dílčí turnaj bude mít své vlastní vítěze\, všichni účastníci ale zároveň získají poslední body do celoročního hodnocení série Laserball Open Series\, jejíž vítězové budou vyhlášeni a jmenováni šampiony sezóny na konci turnajového dne! \n\nHerní klíč:\n\nKaždý tým si zahraje proti každému soupeři jednou na každé straně arény**\nO vítězi rozhoduje celkový počet gólů za obě strany\nVítěz zápasu získává 3 body\, při remíze oba týmy po 1 bodu\nCelkovým vítězem se stává tým s nejvyšším počtem bodů**\nV případě remízy bodů rozhoduje vzájemný zápas\, v případě remízového vzájemného zápasu pak celkový rozdíl vstřelených/obdržených gólů\nPokud i zde bude remíza\, proběhne druhý rozstřelovací zápas\n\n**V případě naplnění kapacity 10 týmů se turnajový den rozdělí na dvě poloviny: \n\nV první polovině se startovní pole rozdělí do dvou skupin\, ve kterých si týmy zahrají každý s každým\nNa základě výsledků ve skupině se pak kvalifikují do playoff pavouka\n\n\n V případě zájmu je možné dorazit již den předem a využít sobotní večer od 19-24h k neomezenému tréninku strategie a otestování soupeřů za 1500\,- Kč/tým\, po tréninku možnost přespat u nás na aréně. Dejte nám vědět\, pokud byste měli zájem\, trénink uskutečníme v případě zájmu alespoň 4 týmů. \nPo turnaji se účastníci mohou těšit na bonusové hry zdarma  \n\nRegistrace do Laserball Series 23-24\nStartovné na jeden turnaj je 3500\,- Kč/tým\, při registraci do celé celého ročníku najednou jen 3000\,- Kč/tým (tedy 9000\,- Kč celkem za tři turnaje) \nChcete-li vyplnit tento formulář\, prosím povolte v prohlížeči JavaScript.Informace o týmu\nLayoutNázev týmu *Zkratka (max 4 znaky) *Domovská aréna *Aurora Lasergame KladnoFantasy Lasergame Karlovy VaryLaser Game PlzeňLasergame ŘíčanyMercuria BraníkMercuria HolešoviceMercuria LiberecStar Doms DomažliceJinéDo jaké kategorie se hlásíte? *OPENJUNIORNa jaké turnaje se hlásíte?OPEN Series ALL-INOPEN Series #1 (27.10.2024)OPEN Series #2 (02.02.2025)OPEN Series #3 (18.05.2025)Na jaké turnaje se hlásíte?JUNIOR Series ALL-INJUNIOR Series #1 (17.11.2024)JUNIOR Series #2 (23.02.2025)JUNIOR Series #3 (27.04.2025)Sestava\nSestavu je možné mezi turnaji série měnit. Pokud si ještě nejste jistí\, napište nám alespoň jméno kapitána - ostatní hráče je možné doplnit na soupisku nejpozději týden před začátkem turnaje. \nTýmKapitán týmu - jméno *Hráč 2 - jménoHráč 3 - jménoHráč 4 - jménoHráč 5 - jménoHráč 6 - jménoKapitán týmu - přezdívka *Hráč 2 - přezdívkaHráč 3 - přezdívkaHráč 4 - přezdívkaHráč 5 - přezdívkaHráč 6 - přezdívkaKapitán týmu - věk *Hráč 2 - věkHráč 3 - věkHráč 4 - věkHráč 5 - věkHráč 6 - věkKontaktní informace\nLayoutEmail *Telefon *Souhlas s podmínkami registrace *Souhlasím s podmínkami registrace do turnajeRegistrací do turnaje potvrzuji\, že jsem já i mí spoluhráči zdravotně způsobilí se turnaje zúčastnit a že budeme dodržovat návštěvní řád sportoviště a pokyny organizátora turnaje. Zároveň registrací do turnaje jménem svým i svých spoluhráčů souhlasím s pořizováním audiovizuálních záznamů z průběhu turnaje a dávám organizátorovi turnaje souhlas s využitím těchto záznamů a výše vyplněných osobních údajů za účelem propagace této a dalších akcí organizátora.Odeslat přihlášku do turnaje
URL:http://18.198.16.63/udalost/2024-05-laserball-open-series-3-grand-finale/
LOCATION:Aurora Lasergame Kladno\, Čs. armády 3235\, Kladno\, 27201\, Česká republika
CATEGORIES:Děti,Dospělí,Profesionální hráči,Soutěže,Turnaje,Týmové turnaje
ATTACH;FMTTYPE=image/jpeg:http://18.198.16.63/wp-content/uploads/2023/08/20240526_event_lbseries_open_3.jpg
ORGANIZER;CN="Aurora Lasergame Kladno":MAILTO:info@aurorakladno.cz
END:VEVENT
BEGIN:VEVENT
DTSTART;TZID=Europe/Prague:20240527T180000
DTEND;TZID=Europe/Prague:20240527T210000
DTSTAMP:20260424T105928
CREATED:20230828T134938Z
LAST-MODIFIED:20240331T143616Z
UID:11759-1716832800-1716843600@18.198.16.63
SUMMARY:ARC#4 - Gun Game (amatérský turnaj jednotlivců)
DESCRIPTION:Zveme vás na závěrečný turnaj amatérské série jednotlivců Aurora Rookie Cup\, který se odehraje v módu Shadows. \nTurnaj je určený pouze pro amatérské hráče* \nTento dílčí turnaj bude mít své vlastní vítěze\, všichni účastníci ale zároveň získají poslední body do celoročního hodnocení série ARC\, jejíž vítězové budou vyhlášení po tomto turnaji. \n\n[ 🔫 Gun Game ]\nUltimátní test vašich schopností v neustále se měnících podmínkách. S každou úrovní se kompletně změní nastavení vaší energozbroje a totéž se děje i všem vašim soupeřům – po celou dobu mise tak musíte svou hru přizpůsobovat aktuálnímu stavu na bojišti. \n\nHerní klíč:\n\nstartovní pole bude rozdělené do dvou stejně početných skupin\, první kolo je rozřazené náhodně\, všechna další budou systémem “sudý/lichý” podle dosavadního celkového bodového zisku\n\nv případě účasti do 20 hráčů se hraje v jedné společné skupině\n\n\nhrají se 4 mise\, ve kterých získáváte body podle svého umístění\ncelkovým vítězem se stává hráč s nejvyšším součtem bodů\nv případě remízy bodů rozhodují o pořadí nejlepší dosažená umístění v jednotlivých hrách\, následně celkové nahrané skóre\n\n*Amatérský hráč = Max 300 odehraných standardních her k 1.9.2023. Pokud podmínku nesplňujete\, ale považujete se stále za amatéra\, před přihláškou nám napište o výjimku\, bude posouzena individuálně a v případě schválení platí pro celou sezónu 23/24. \n\nPo turnaji se účastníci mohou těšit na bonusové hry zdarma  \n\nRegistrace do Aurora Rookie Cup\nChcete-li vyplnit tento formulář\, prosím povolte v prohlížeči JavaScript.Informace o hráči\nLayoutCelé jméno *Přezdívka *Věk *Domovská aréna *Aurora Lasergame KladnoFantasy Lasergame Karlovy VaryLaser Game PlzeňLasergame ŘíčanyMercuria BraníkMercuria HolešoviceMercuria LiberecStar Doms DomažliceJinéNa jaké turnaje se chceš přihlásit? *Color Madness (15. 1. 2024)Revolver (25. 3. 2024)Shadows (27. 5. 2024)Kontaktní informace\nLayoutEmail *Telefon *Souhlas s podmínkami registrace *Souhlasím s podmínkami registrace do turnajeRegistrací do turnaje potvrzuji\, že jsem zdravotně způsobilý se turnaje zúčastnit a že budu dodržovat návštěvní řád sportoviště a pokyny organizátora turnaje. Zároveň registrací do turnaje souhlasím s pořizováním audiovizuálních záznamů z průběhu turnaje a dávám organizátorovi turnaje souhlas s využitím těchto záznamů a mých výše vyplněných osobních údajů za účelem propagace této a dalších akcí organizátora.Odeslat přihlášku do turnaje
URL:http://18.198.16.63/udalost/2024-05-arc-4-gun-game/
LOCATION:Aurora Lasergame Kladno\, Čs. armády 3235\, Kladno\, 27201\, Česká republika
CATEGORIES:Amatérští hráči,Děti,Dospělí,Individuální turnaje,Soutěže,Turnaje
ATTACH;FMTTYPE=image/jpeg:http://18.198.16.63/wp-content/uploads/2023/08/20240527_event_arc_4-1.jpg
ORGANIZER;CN="Aurora Lasergame Kladno":MAILTO:info@aurorakladno.cz
END:VEVENT
BEGIN:VEVENT
DTSTART;TZID=Europe/Prague:20240531T200000
DTEND;TZID=Europe/Prague:20240531T220000
DTSTAMP:20260424T105928
CREATED:20240529T124557Z
LAST-MODIFIED:20240529T124557Z
UID:12254-1717185600-1717192800@18.198.16.63
SUMMARY:Dospělácký herní večer s neomezenou lasergame
DESCRIPTION:Baví vás lasergame a hledáte další spoluhráče? Chcete hrát pravidelně a ještě ušetřit? Tak právě pro vás pořádáme dospělácké herní večery! 🎉 \nRegistrace zde\nDvě hodiny neomezeného lasergame hraní pro všechny hráče starší 15 let v pohodové atmosféře za jednu zvýhodněnou cenu. Rádi vás postupně během času provedeme od úplně základních po pokročilé typy her\, takže se nemusíte ničeho obávat ať už lasergame znáte\, nebo se chystáte teprve vyzkoušet 🙂 \nScházíme se každých 14 dní ve středu večer a je na vás\, jak často se budete chtít přidat 😊 Na vybraný termín se prosím přihlašte přes tento rychlý formulář. \nTěšíme se na vás!
URL:http://18.198.16.63/udalost/2024-05-31-dospelacky-herni-vecer-s-neomezenou-lasergame/
LOCATION:Aurora Lasergame Kladno\, Čs. armády 3235\, Kladno\, 27201\, Česká republika
CATEGORIES:Dospělí,Zvýhodněné hraní
ATTACH;FMTTYPE=image/jpeg:http://18.198.16.63/wp-content/uploads/2023/10/20231011_event_hernivecer_generic.jpg
ORGANIZER;CN="Aurora Lasergame Kladno":MAILTO:info@aurorakladno.cz
END:VEVENT
END:VCALENDAR