BEGIN:VCALENDAR
VERSION:2.0
PRODID:-//Aurora Lasergame Kladno - ECPv6.3.2//NONSGML v1.0//EN
CALSCALE:GREGORIAN
METHOD:PUBLISH
X-WR-CALNAME:Aurora Lasergame Kladno
X-ORIGINAL-URL:http://18.198.16.63
X-WR-CALDESC:Akce na Aurora Lasergame Kladno
REFRESH-INTERVAL;VALUE=DURATION:PT1H
X-Robots-Tag:noindex
X-PUBLISHED-TTL:PT1H
BEGIN:VTIMEZONE
TZID:Europe/Prague
BEGIN:DAYLIGHT
TZOFFSETFROM:+0100
TZOFFSETTO:+0200
TZNAME:CEST
DTSTART:20230326T010000
END:DAYLIGHT
BEGIN:STANDARD
TZOFFSETFROM:+0200
TZOFFSETTO:+0100
TZNAME:CET
DTSTART:20231029T010000
END:STANDARD
BEGIN:DAYLIGHT
TZOFFSETFROM:+0100
TZOFFSETTO:+0200
TZNAME:CEST
DTSTART:20240331T010000
END:DAYLIGHT
BEGIN:STANDARD
TZOFFSETFROM:+0200
TZOFFSETTO:+0100
TZNAME:CET
DTSTART:20241027T010000
END:STANDARD
END:VTIMEZONE
BEGIN:VEVENT
DTSTART;TZID=Europe/Prague:20231231T190000
DTEND;TZID=Europe/Prague:20240101T100000
DTSTAMP:20260424T175700
CREATED:20231114T004412Z
LAST-MODIFIED:20231114T004933Z
UID:11981-1704049200-1704103200@18.198.16.63
SUMMARY:Silvestrovská lasergame párty pro děti i dospělé
DESCRIPTION:Vezměte sebou kamarády malé i velké a pojďte s námi společně oslavit konec roku a přivítat ten nový na lasergame! 🥳🎉 \nAkce je vhodná pro děti i dospělé (třeba i celé rodiny)\, nečekejte tak divokou alkopárty\, spíš příjemný společný večer plný her 😊 \nRegistrujte se prosím\, abychom věděli\, na kolik lidí se můžeme těšit a měli jsme všeho dostatek pro všechny: \n✍️ Registrace na akci\nCo vás čeká?\n\nNEOMEZENÉ hraní lasergame do noci\nDeskovky k zapůjčení\nGamer koutek s PS5\nTeplý a studený raut a novoroční přípitek zdarma\nKrom běžné nabídky navíc alko i nealko míchané nápoje na baru\nPro prvních 20 přihlášených vzácný achievement za hru přes silvestrovskou půlnoc\nPro všechny achievement za hru na Nový rok\na hlavně celovečerní přátelská atmosféra\, na které si zakládáme 😊\n\nSamozřejmě není povinné zůstávat do noci/rána\, můžete si užít her do večera a pak se rozumně přesunout domů 🙂 Pro unavené a přespolní bude možnost přespat u nás do druhého dne (vlastní karimatku a spacák sebou) 😴 \nTěšíme se na vás! \n💵 Členové 900\,- Kč/os\n💵 Nováčci 1000\,- Kč/os
URL:http://18.198.16.63/udalost/2023-silvestrovska-lasergame-party-pro-deti-i-dospele/
LOCATION:Aurora Lasergame Kladno\, Čs. armády 3235\, Kladno\, 27201\, Česká republika
CATEGORIES:Děti,Dospělí,Zvýhodněné hraní
ATTACH;FMTTYPE=image/jpeg:http://18.198.16.63/wp-content/uploads/2023/11/20231231_event_silvestr.jpg
ORGANIZER;CN="Aurora Lasergame Kladno":MAILTO:info@aurorakladno.cz
END:VEVENT
BEGIN:VEVENT
DTSTART;TZID=Europe/Prague:20240124T190000
DTEND;TZID=Europe/Prague:20240124T210000
DTSTAMP:20260424T175700
CREATED:20240123T085924Z
LAST-MODIFIED:20240123T091237Z
UID:12079-1706122800-1706130000@18.198.16.63
SUMMARY:Dospělácký herní večer s neomezenou lasergame
DESCRIPTION:Baví vás lasergame a hledáte další spoluhráče? Chcete hrát pravidelně a ještě ušetřit? Tak právě pro vás pořádáme dospělácké herní večery! 🎉 \nRegistrace zde\nDvě hodiny neomezeného lasergame hraní pro všechny hráče starší 15 let v pohodové atmosféře za jednu zvýhodněnou cenu. Rádi vás postupně během času provedeme od úplně základních po pokročilé typy her\, takže se nemusíte ničeho obávat ať už lasergame znáte\, nebo se chystáte teprve vyzkoušet 🙂 \nScházíme se každých 14 dní ve středu večer a je na vás\, jak často se budete chtít přidat 😊 Na vybraný termín se prosím přihlašte přes tento rychlý formulář. \nTěšíme se na vás!
URL:http://18.198.16.63/udalost/2024-01-24-dospelacky-herni-vecer-s-neomezenou-lasergame/
LOCATION:Aurora Lasergame Kladno\, Čs. armády 3235\, Kladno\, 27201\, Česká republika
CATEGORIES:Amatérští hráči,Dospělí,Zvýhodněné hraní
ATTACH;FMTTYPE=image/jpeg:http://18.198.16.63/wp-content/uploads/2023/10/20231011_event_hernivecer_generic.jpg
ORGANIZER;CN="Aurora Lasergame Kladno":MAILTO:info@aurorakladno.cz
END:VEVENT
BEGIN:VEVENT
DTSTART;TZID=Europe/Prague:20240128T090000
DTEND;TZID=Europe/Prague:20240128T183000
DTSTAMP:20260424T175700
CREATED:20230828T140359Z
LAST-MODIFIED:20230828T140611Z
UID:11768-1706432400-1706466600@18.198.16.63
SUMMARY:Laserball Open Series #2 (otevřený turnaj 5v5)
DESCRIPTION:Zveme vás na turnaj v tom nejakčnějším\, nejnapínavějším a nejzábavnějším\, co sportovní lasergame nabízí – v rychlém a taktickém módu Laserball! \nTurnaj (a celá série) je určený především pro zkušenější hráče a odvážné nováčky. \nTento dílčí turnaj bude mít své vlastní vítěze\, všichni účastníci ale zároveň získají body do celoročního hodnocení série Laserball Open Series\, jejíž vítězové budou vyhlášeni a jmenováni šampiony sezóny na posledním turnaji 26.05.2024 \n\nHerní klíč:\n\nKaždý tým si zahraje proti každému soupeři jednou na každé straně arény**\nO vítězi rozhoduje celkový počet gólů za obě strany\nVítěz zápasu získává 3 body\, při remíze oba týmy po 1 bodu\nCelkovým vítězem se stává tým s nejvyšším počtem bodů**\nV případě remízy bodů rozhoduje vzájemný zápas\, v případě remízového vzájemného zápasu pak celkový rozdíl vstřelených/obdržených gólů\nPokud i zde bude remíza\, proběhne druhý rozstřelovací zápas\n\n**V případě naplnění kapacity 10 týmů se turnajový den rozdělí na dvě poloviny: \n\nV první polovině se startovní pole rozdělí do dvou skupin\, ve kterých si týmy zahrají každý s každým\nNa základě výsledků ve skupině se pak kvalifikují do playoff pavouka\n\n\n V případě zájmu je možné dorazit již den předem a využít sobotní večer od 19-24h k neomezenému tréninku strategie a otestování soupeřů za 1500\,- Kč/tým\, po tréninku možnost přespat u nás na aréně. Dejte nám vědět\, pokud byste měli zájem\, trénink uskutečníme v případě zájmu alespoň 4 týmů. \nPo turnaji se účastníci mohou těšit na bonusové hry zdarma  \n\nRegistrace do Laserball Series 23-24\nStartovné na jeden turnaj je 3500\,- Kč/tým\, při registraci do celé celého ročníku najednou jen 3000\,- Kč/tým (tedy 9000\,- Kč celkem za tři turnaje) \nChcete-li vyplnit tento formulář\, prosím povolte v prohlížeči JavaScript.Informace o týmu\nLayoutNázev týmu *Zkratka (max 4 znaky) *Domovská aréna *Aurora Lasergame KladnoFantasy Lasergame Karlovy VaryLaser Game PlzeňLasergame ŘíčanyMercuria BraníkMercuria HolešoviceMercuria LiberecStar Doms DomažliceJinéDo jaké kategorie se hlásíte? *OPENJUNIORNa jaké turnaje se hlásíte?OPEN Series ALL-INOPEN Series #1 (27.10.2024)OPEN Series #2 (02.02.2025)OPEN Series #3 (18.05.2025)Na jaké turnaje se hlásíte?JUNIOR Series ALL-INJUNIOR Series #1 (17.11.2024)JUNIOR Series #2 (23.02.2025)JUNIOR Series #3 (27.04.2025)Sestava\nSestavu je možné mezi turnaji série měnit. Pokud si ještě nejste jistí\, napište nám alespoň jméno kapitána - ostatní hráče je možné doplnit na soupisku nejpozději týden před začátkem turnaje. \nTýmKapitán týmu - jméno *Hráč 2 - jménoHráč 3 - jménoHráč 4 - jménoHráč 5 - jménoHráč 6 - jménoKapitán týmu - přezdívka *Hráč 2 - přezdívkaHráč 3 - přezdívkaHráč 4 - přezdívkaHráč 5 - přezdívkaHráč 6 - přezdívkaKapitán týmu - věk *Hráč 2 - věkHráč 3 - věkHráč 4 - věkHráč 5 - věkHráč 6 - věkKontaktní informace\nLayoutEmail *Telefon *Souhlas s podmínkami registrace *Souhlasím s podmínkami registrace do turnajeRegistrací do turnaje potvrzuji\, že jsem já i mí spoluhráči zdravotně způsobilí se turnaje zúčastnit a že budeme dodržovat návštěvní řád sportoviště a pokyny organizátora turnaje. Zároveň registrací do turnaje jménem svým i svých spoluhráčů souhlasím s pořizováním audiovizuálních záznamů z průběhu turnaje a dávám organizátorovi turnaje souhlas s využitím těchto záznamů a výše vyplněných osobních údajů za účelem propagace této a dalších akcí organizátora.Odeslat přihlášku do turnaje
URL:http://18.198.16.63/udalost/2024-01-laserball-open-series-2/
LOCATION:Aurora Lasergame Kladno\, Čs. armády 3235\, Kladno\, 27201\, Česká republika
CATEGORIES:Děti,Dospělí,Profesionální hráči,Soutěže,Týmové turnaje
ATTACH;FMTTYPE=image/jpeg:http://18.198.16.63/wp-content/uploads/2023/08/20240128_event_lbseries_open_2.jpg
ORGANIZER;CN="Aurora Lasergame Kladno":MAILTO:info@aurorakladno.cz
END:VEVENT
END:VCALENDAR