BEGIN:VCALENDAR
VERSION:2.0
PRODID:-//Aurora Lasergame Kladno - ECPv6.3.2//NONSGML v1.0//EN
CALSCALE:GREGORIAN
METHOD:PUBLISH
X-WR-CALNAME:Aurora Lasergame Kladno
X-ORIGINAL-URL:http://18.198.16.63
X-WR-CALDESC:Akce na Aurora Lasergame Kladno
REFRESH-INTERVAL;VALUE=DURATION:PT1H
X-Robots-Tag:noindex
X-PUBLISHED-TTL:PT1H
BEGIN:VTIMEZONE
TZID:Europe/Prague
BEGIN:DAYLIGHT
TZOFFSETFROM:+0100
TZOFFSETTO:+0200
TZNAME:CEST
DTSTART:20230326T010000
END:DAYLIGHT
BEGIN:STANDARD
TZOFFSETFROM:+0200
TZOFFSETTO:+0100
TZNAME:CET
DTSTART:20231029T010000
END:STANDARD
END:VTIMEZONE
BEGIN:VEVENT
DTSTART;TZID=Europe/Prague:20231108T190000
DTEND;TZID=Europe/Prague:20231108T210000
DTSTAMP:20260424T225808
CREATED:20231016T084541Z
LAST-MODIFIED:20231016T084647Z
UID:11892-1699470000-1699477200@18.198.16.63
SUMMARY:Dospělácký herní večer s neomezenou lasergame
DESCRIPTION:Baví vás lasergame a hledáte další spoluhráče? Chcete hrát pravidelně a ještě ušetřit? Tak právě pro vás pořádáme dospělácké herní večery! 🎉 \nRegistrace zde\nDvě hodiny neomezeného lasergame hraní pro všechny hráče starší 15 let v pohodové atmosféře za jednu zvýhodněnou cenu. Rádi vás postupně během času provedeme od úplně základních po pokročilé typy her\, takže se nemusíte ničeho obávat ať už lasergame znáte\, nebo se chystáte teprve vyzkoušet 🙂 \nScházíme se každých 14 dní ve středu večer a je na vás\, jak často se budete chtít přidat 😊 Na vybraný termín se prosím přihlašte přes tento rychlý formulář. \nTěšíme se na vás!
URL:http://18.198.16.63/udalost/2023-11-08-dospelacky-herni-vecer-s-neomezenou-lasergame/
LOCATION:Aurora Lasergame Kladno\, Čs. armády 3235\, Kladno\, 27201\, Česká republika
CATEGORIES:Dospělí,Zvýhodněné hraní
ATTACH;FMTTYPE=image/jpeg:http://18.198.16.63/wp-content/uploads/2023/10/20231011_event_hernivecer_generic.jpg
ORGANIZER;CN="Aurora Lasergame Kladno":MAILTO:info@aurorakladno.cz
END:VEVENT
BEGIN:VEVENT
DTSTART;TZID=Europe/Prague:20231120T180000
DTEND;TZID=Europe/Prague:20231120T210000
DTSTAMP:20260424T225808
CREATED:20230828T133409Z
LAST-MODIFIED:20230828T135340Z
UID:11746-1700503200-1700514000@18.198.16.63
SUMMARY:ARC#1 - Deathmatch (amatérský turnaj jednotlivců)
DESCRIPTION:Zveme vás na první turnaj amatérské série jednotlivců Aurora Rookie Cup\, který se odehraje v módu Level-up Deathmatch. \nTurnaj je určený pouze pro amatérské hráče* \nTento dílčí turnaj bude mít své vlastní vítěze\, všichni účastníci ale zároveň získají body do celoročního hodnocení série ARC\, jejíž vítězové budou vyhlášení na posledním turnaji 27.5.2024 \n\n[ ⏫ Level-Up Deathmatch ]\nNa bojiště nastupujete jako zelenáč pouze se svou základní zbraní a samopalem. Pokud se ale v bitvě osvědčíte\, velitelství vám z orbity pošle řadu vylepšení – ochranné silové pole\, reaktivátor\, raketomet… a pokud se budete opravdu snažit\, sešle na váš pokyn proti nepřátelům i taktickou atomovku. Zvítězí ten nejbojovnější! \n\nHerní klíč:\n\nstartovní pole bude rozdělené do dvou stejně početných skupin\nprvní kolo je rozřazené náhodně\, všechna další budou systémem “sudý/lichý” podle dosavadního celkového bodového zisku\nhrají se 4 mise\, ve kterých získáváte body podle svého umístění\ncelkovým vítězem se stává hráč s nejvyšším součtem bodů\nv případě remízy bodů rozhodují o pořadí nejlepší dosažená umístění v jednotlivých hrách\, následně celkové nahrané skóre\n\n*Amatérský hráč = Max 300 odehraných standardních her k 1.9.2023. Pokud podmínku nesplňujete\, ale považujete se stále za amatéra\, před přihláškou nám napište o výjimku\, bude posouzena individuálně a v případě schválení platí pro celou sezónu 23/24. \n\nPo turnaji se účastníci mohou těšit na bonusové hry zdarma  \n\nRegistrace do Aurora Rookie Cup\nChcete-li vyplnit tento formulář\, prosím povolte v prohlížeči JavaScript.Informace o hráči\nLayoutCelé jméno *Přezdívka *Věk *Domovská aréna *Aurora Lasergame KladnoFantasy Lasergame Karlovy VaryLaser Game PlzeňLasergame ŘíčanyMercuria BraníkMercuria HolešoviceMercuria LiberecStar Doms DomažliceJinéNa jaké turnaje se chceš přihlásit? *Color Madness (15. 1. 2024)Revolver (25. 3. 2024)Shadows (27. 5. 2024)Kontaktní informace\nLayoutEmail *Telefon *Souhlas s podmínkami registrace *Souhlasím s podmínkami registrace do turnajeRegistrací do turnaje potvrzuji\, že jsem zdravotně způsobilý se turnaje zúčastnit a že budu dodržovat návštěvní řád sportoviště a pokyny organizátora turnaje. Zároveň registrací do turnaje souhlasím s pořizováním audiovizuálních záznamů z průběhu turnaje a dávám organizátorovi turnaje souhlas s využitím těchto záznamů a mých výše vyplněných osobních údajů za účelem propagace této a dalších akcí organizátora.Odeslat přihlášku do turnaje
URL:http://18.198.16.63/udalost/2023-11-arc-1-deathmatch/
LOCATION:Aurora Lasergame Kladno\, Čs. armády 3235\, Kladno\, 27201\, Česká republika
CATEGORIES:Amatérští hráči,Děti,Dospělí,Individuální turnaje,Soutěže
ATTACH;FMTTYPE=image/jpeg:http://18.198.16.63/wp-content/uploads/2023/08/20231120_event_arc_1.jpg
ORGANIZER;CN="Aurora Lasergame Kladno":MAILTO:info@aurorakladno.cz
END:VEVENT
BEGIN:VEVENT
DTSTART;TZID=Europe/Prague:20231122T190000
DTEND;TZID=Europe/Prague:20231122T210000
DTSTAMP:20260424T225808
CREATED:20231016T084651Z
LAST-MODIFIED:20231016T084801Z
UID:11894-1700679600-1700686800@18.198.16.63
SUMMARY:Dospělácký herní večer s neomezenou lasergame
DESCRIPTION:Baví vás lasergame a hledáte další spoluhráče? Chcete hrát pravidelně a ještě ušetřit? Tak právě pro vás pořádáme dospělácké herní večery! 🎉 \nRegistrace zde\nDvě hodiny neomezeného lasergame hraní pro všechny hráče starší 15 let v pohodové atmosféře za jednu zvýhodněnou cenu. Rádi vás postupně během času provedeme od úplně základních po pokročilé typy her\, takže se nemusíte ničeho obávat ať už lasergame znáte\, nebo se chystáte teprve vyzkoušet 🙂 \nScházíme se každých 14 dní ve středu večer a je na vás\, jak často se budete chtít přidat 😊 Na vybraný termín se prosím přihlašte přes tento rychlý formulář. \nTěšíme se na vás!
URL:http://18.198.16.63/udalost/2023-11-22-dospelacky-herni-vecer-s-neomezenou-lasergame/
LOCATION:Aurora Lasergame Kladno\, Čs. armády 3235\, Kladno\, 27201\, Česká republika
CATEGORIES:Dospělí,Zvýhodněné hraní
ATTACH;FMTTYPE=image/jpeg:http://18.198.16.63/wp-content/uploads/2023/10/20231011_event_hernivecer_generic.jpg
ORGANIZER;CN="Aurora Lasergame Kladno":MAILTO:info@aurorakladno.cz
END:VEVENT
END:VCALENDAR